<?xml version="1.0" encoding="UTF-8"?>
<Capabilities xmlns="http://www.opengis.net/wmts/1.0"
xmlns:ows="http://www.opengis.net/ows/1.1"
xmlns:xlink="http://www.w3.org/1999/xlink"
xmlns:xsi="http://www.w3.org/2001/XMLSchema-instance"
xmlns:gml="http://www.opengis.net/gml"
xsi:schemaLocation="http://www.opengis.net/wmts/1.0 http://schemas.opengis.net/wmts/1.0/wmtsGetCapabilities_response.xsd"
version="1.0.0">
<!-- Service Identification --> <ows:ServiceIdentification>
<ows:Title>BaseMap</ows:Title>
<ows:ServiceType>OGC WMTS</ows:ServiceType>
<ows:ServiceTypeVersion>1.0.0</ows:ServiceTypeVersion>
</ows:ServiceIdentification> <!-- Operations Metadata --> <ows:OperationsMetadata>
<ows:Operation name="GetCapabilities">
<ows:DCP>
<ows:HTTP>
<ows:Get xlink:href="https://ags.joburg.org.za/server/rest/services/BaseMap/MapServer/WMTS/1.0.0/WMTSCapabilities.xml">
<ows:Constraint name="GetEncoding">
<ows:AllowedValues>
<ows:Value>RESTful</ows:Value>
</ows:AllowedValues>
</ows:Constraint>
</ows:Get>
<!-- add KVP binding in 10.1 -->
<ows:Get xlink:href="https://ags.joburg.org.za/server/rest/services/BaseMap/MapServer/WMTS?">
<ows:Constraint name="GetEncoding">
<ows:AllowedValues>
<ows:Value>KVP</ows:Value>
</ows:AllowedValues>
</ows:Constraint>
</ows:Get>
</ows:HTTP>
</ows:DCP>
</ows:Operation>
<ows:Operation name="GetTile">
<ows:DCP>
<ows:HTTP>
<ows:Get xlink:href="https://ags.joburg.org.za/server/rest/services/BaseMap/MapServer/WMTS/tile/1.0.0/">
<ows:Constraint name="GetEncoding">
<ows:AllowedValues>
<ows:Value>RESTful</ows:Value>
</ows:AllowedValues>
</ows:Constraint>
</ows:Get>
<ows:Get xlink:href="https://ags.joburg.org.za/server/rest/services/BaseMap/MapServer/WMTS?">
<ows:Constraint name="GetEncoding">
<ows:AllowedValues>
<ows:Value>KVP</ows:Value>
</ows:AllowedValues>
</ows:Constraint>
</ows:Get>
</ows:HTTP>
</ows:DCP>
</ows:Operation>
</ows:OperationsMetadata> <Contents>
<!--Layer--> <Layer>
<ows:Title>BaseMap</ows:Title> <ows:Identifier>BaseMap</ows:Identifier>
<ows:BoundingBox crs="urn:ogc:def:crs:EPSG::0">
<ows:LowerCorner>-183775.14890000038 -2979425.2633999996</ows:LowerCorner>
<ows:UpperCorner>9891.833100000396 -2778220.4381235233</ows:UpperCorner>
</ows:BoundingBox> <ows:WGS84BoundingBox crs="urn:ogc:def:crs:OGC:2:84">
<ows:LowerCorner>27.15005172036081 -26.925949334542167</ows:LowerCorner>
<ows:UpperCorner>29.099595699421034 -25.098640174947096</ows:UpperCorner>
</ows:WGS84BoundingBox>
<Style isDefault="true">
<ows:Title>Default Style</ows:Title>
<ows:Identifier>default</ows:Identifier>
</Style>
<Format>image/png</Format>
<TileMatrixSetLink>
<TileMatrixSet>default028mm</TileMatrixSet>
</TileMatrixSetLink>
<ResourceURL format="image/png" resourceType="tile" template="https://ags.joburg.org.za/server/rest/services/BaseMap/MapServer/WMTS/tile/1.0.0/BaseMap/{Style}/{TileMatrixSet}/{TileMatrix}/{TileRow}/{TileCol}.png" />
</Layer> <!--TileMatrixSet-->
<TileMatrixSet>
<ows:Title>TileMatrix using 0.28mm</ows:Title>
<ows:Abstract>The tile matrix set that has scale values calculated based on the dpi defined by OGC specification (dpi assumes 0.28mm as the physical distance of a pixel).</ows:Abstract> <ows:Identifier>default028mm</ows:Identifier>
<ows:SupportedCRS>urn:ogc:def:crs:EPSG::0</ows:SupportedCRS>
<TileMatrix>
<ows:Identifier>0</ows:Identifier>
<ScaleDenominator>1133930.8392901076</ScaleDenominator>
<TopLeftCorner>-5623200.0 1.00021E7</TopLeftCorner> <TileWidth>128</TileWidth> <TileHeight>128</TileHeight>
<MatrixWidth>139</MatrixWidth> <MatrixHeight>320</MatrixHeight>
</TileMatrix>
<TileMatrix>
<ows:Identifier>1</ows:Identifier>
<ScaleDenominator>483810.49143044587</ScaleDenominator>
<TopLeftCorner>-5623200.0 1.00021E7</TopLeftCorner> <TileWidth>128</TileWidth> <TileHeight>128</TileHeight>
<MatrixWidth>325</MatrixWidth> <MatrixHeight>749</MatrixHeight>
</TileMatrix>
<TileMatrix>
<ows:Identifier>2</ows:Identifier>
<ScaleDenominator>241905.24571522293</ScaleDenominator>
<TopLeftCorner>-5623200.0 1.00021E7</TopLeftCorner> <TileWidth>128</TileWidth> <TileHeight>128</TileHeight>
<MatrixWidth>650</MatrixWidth> <MatrixHeight>1498</MatrixHeight>
</TileMatrix>
<TileMatrix>
<ows:Identifier>3</ows:Identifier>
<ScaleDenominator>120952.62285761147</ScaleDenominator>
<TopLeftCorner>-5623200.0 1.00021E7</TopLeftCorner> <TileWidth>128</TileWidth> <TileHeight>128</TileHeight>
<MatrixWidth>1300</MatrixWidth> <MatrixHeight>2995</MatrixHeight>
</TileMatrix>
<TileMatrix>
<ows:Identifier>4</ows:Identifier>
<ScaleDenominator>60476.31142880573</ScaleDenominator>
<TopLeftCorner>-5623200.0 1.00021E7</TopLeftCorner> <TileWidth>128</TileWidth> <TileHeight>128</TileHeight>
<MatrixWidth>2599</MatrixWidth> <MatrixHeight>5990</MatrixHeight>
</TileMatrix>
<TileMatrix>
<ows:Identifier>5</ows:Identifier>
<ScaleDenominator>30238.155714402867</ScaleDenominator>
<TopLeftCorner>-5623200.0 1.00021E7</TopLeftCorner> <TileWidth>128</TileWidth> <TileHeight>128</TileHeight>
<MatrixWidth>5198</MatrixWidth> <MatrixHeight>11979</MatrixHeight>
</TileMatrix>
<TileMatrix>
<ows:Identifier>6</ows:Identifier>
<ScaleDenominator>15119.077857201433</ScaleDenominator>
<TopLeftCorner>-5623200.0 1.00021E7</TopLeftCorner> <TileWidth>128</TileWidth> <TileHeight>128</TileHeight>
<MatrixWidth>10396</MatrixWidth> <MatrixHeight>23957</MatrixHeight>
</TileMatrix>
<TileMatrix>
<ows:Identifier>7</ows:Identifier>
<ScaleDenominator>7559.538928600717</ScaleDenominator>
<TopLeftCorner>-5623200.0 1.00021E7</TopLeftCorner> <TileWidth>128</TileWidth> <TileHeight>128</TileHeight>
<MatrixWidth>20792</MatrixWidth> <MatrixHeight>47914</MatrixHeight>
</TileMatrix>
<TileMatrix>
<ows:Identifier>8</ows:Identifier>
<ScaleDenominator>3779.7694643003583</ScaleDenominator>
<TopLeftCorner>-5623200.0 1.00021E7</TopLeftCorner> <TileWidth>128</TileWidth> <TileHeight>128</TileHeight>
<MatrixWidth>41583</MatrixWidth> <MatrixHeight>95828</MatrixHeight>
</TileMatrix>
<TileMatrix>
<ows:Identifier>9</ows:Identifier>
<ScaleDenominator>2362.355915187724</ScaleDenominator>
<TopLeftCorner>-5623200.0 1.00021E7</TopLeftCorner> <TileWidth>128</TileWidth> <TileHeight>128</TileHeight>
<MatrixWidth>66533</MatrixWidth> <MatrixHeight>153325</MatrixHeight>
</TileMatrix>
<TileMatrix>
<ows:Identifier>10</ows:Identifier>
<ScaleDenominator>1889.8847321501792</ScaleDenominator>
<TopLeftCorner>-5623200.0 1.00021E7</TopLeftCorner> <TileWidth>128</TileWidth> <TileHeight>128</TileHeight>
<MatrixWidth>83166</MatrixWidth> <MatrixHeight>191656</MatrixHeight>
</TileMatrix>
<TileMatrix>
<ows:Identifier>11</ows:Identifier>
<ScaleDenominator>944.9423660750896</ScaleDenominator>
<TopLeftCorner>-5623200.0 1.00021E7</TopLeftCorner> <TileWidth>128</TileWidth> <TileHeight>128</TileHeight>
<MatrixWidth>166332</MatrixWidth> <MatrixHeight>383312</MatrixHeight>
</TileMatrix>
<TileMatrix>
<ows:Identifier>12</ows:Identifier>
<ScaleDenominator>472.4711830375448</ScaleDenominator>
<TopLeftCorner>-5623200.0 1.00021E7</TopLeftCorner> <TileWidth>128</TileWidth> <TileHeight>128</TileHeight>
<MatrixWidth>332663</MatrixWidth> <MatrixHeight>766624</MatrixHeight>
</TileMatrix>
</TileMatrixSet>
</Contents>
<ServiceMetadataURL xlink:href="https://ags.joburg.org.za/server/rest/services/BaseMap/MapServer/WMTS/1.0.0/WMTSCapabilities.xml" /> </Capabilities>
