{
 "currentVersion": 10.91,
 "serviceDescription": "AerialObliqueImagery/2019",
 "name": "AerialObliqueImagery/2019",
 "description": "",
 "extent": {
  "xmin": -133960.69827952754,
  "ymin": -2942274.3243090473,
  "xmax": -66382.00022252729,
  "ymax": -2857812.964777549,
  "spatialReference": {
   "wkt": "PROJCS[\"Hartebeesthoek_1994_Transverse_Mercator\",GEOGCS[\"GCS_Hartebeesthoek_1994\",DATUM[\"D_Hartebeesthoek_1994\",SPHEROID[\"GRS_1980\",6378137.0,298.257222101]],PRIMEM[\"Greenwich\",0.0],UNIT[\"Degree\",0.0174532925199433]],PROJECTION[\"Transverse_Mercator\"],PARAMETER[\"false_easting\",0.0],PARAMETER[\"false_northing\",0.0],PARAMETER[\"central_meridian\",29.0],PARAMETER[\"scale_factor\",1.0],PARAMETER[\"latitude_of_origin\",0.0],UNIT[\"Meter\",1.0]],VERTCS[\"unknown\",VDATUM[\"unknown\"],PARAMETER[\"Vertical_Shift\",0.0],PARAMETER[\"Direction\",1.0],UNIT[\"Meter\",1.0]]"
  }
 },
 "initialExtent": {
  "xmin": -133960.69827952754,
  "ymin": -2942274.3243090473,
  "xmax": -66382.00022252729,
  "ymax": -2857812.964777549,
  "spatialReference": {
   "wkt": "PROJCS[\"Hartebeesthoek_1994_Transverse_Mercator\",GEOGCS[\"GCS_Hartebeesthoek_1994\",DATUM[\"D_Hartebeesthoek_1994\",SPHEROID[\"GRS_1980\",6378137.0,298.257222101]],PRIMEM[\"Greenwich\",0.0],UNIT[\"Degree\",0.0174532925199433]],PROJECTION[\"Transverse_Mercator\"],PARAMETER[\"false_easting\",0.0],PARAMETER[\"false_northing\",0.0],PARAMETER[\"central_meridian\",29.0],PARAMETER[\"scale_factor\",1.0],PARAMETER[\"latitude_of_origin\",0.0],UNIT[\"Meter\",1.0]],VERTCS[\"unknown\",VDATUM[\"unknown\"],PARAMETER[\"Vertical_Shift\",0.0],PARAMETER[\"Direction\",1.0],UNIT[\"Meter\",1.0]]"
  }
 },
 "fullExtent": {
  "xmin": -133960.69827952754,
  "ymin": -2942274.3243090473,
  "xmax": -66382.00022252729,
  "ymax": -2857812.964777549,
  "spatialReference": {
   "wkt": "PROJCS[\"Hartebeesthoek_1994_Transverse_Mercator\",GEOGCS[\"GCS_Hartebeesthoek_1994\",DATUM[\"D_Hartebeesthoek_1994\",SPHEROID[\"GRS_1980\",6378137.0,298.257222101]],PRIMEM[\"Greenwich\",0.0],UNIT[\"Degree\",0.0174532925199433]],PROJECTION[\"Transverse_Mercator\"],PARAMETER[\"false_easting\",0.0],PARAMETER[\"false_northing\",0.0],PARAMETER[\"central_meridian\",29.0],PARAMETER[\"scale_factor\",1.0],PARAMETER[\"latitude_of_origin\",0.0],UNIT[\"Meter\",1.0]],VERTCS[\"unknown\",VDATUM[\"unknown\"],PARAMETER[\"Vertical_Shift\",0.0],PARAMETER[\"Direction\",1.0],UNIT[\"Meter\",1.0]]"
  }
 },
 "heightModelInfo": {
  "heightModel": "gravity_related_height",
  "vertCRS": "unknown",
  "heightUnit": "meter"
 },
 "pixelSizeX": 0.0530963082952993,
 "pixelSizeY": 0.05309630829529931,
 "bandCount": 3,
 "pixelType": "U8",
 "minPixelSize": 0,
 "maxPixelSize": 0,
 "copyrightText": "",
 "serviceDataType": "esriImageServiceDataTypeRGB",
 "minValues": [
  0,
  4,
  10
 ],
 "maxValues": [
  253,
  252,
  255
 ],
 "meanValues": [
  125.45733330623595,
  118.0893194638389,
  112.48067783619813
 ],
 "stdvValues": [
  25.75283252897083,
  20.702146323609096,
  20.753437914157676
 ],
 "objectIdField": "OBJECTID",
 "fields": [
  {
   "name": "OBJECTID",
   "type": "esriFieldTypeOID",
   "alias": "OBJECTID",
   "domain": null
  },
  {
   "name": "Shape",
   "type": "esriFieldTypeGeometry",
   "alias": "Shape",
   "domain": null
  },
  {
   "name": "Name",
   "type": "esriFieldTypeString",
   "alias": "Name",
   "domain": null,
   "length": 200
  },
  {
   "name": "MinPS",
   "type": "esriFieldTypeDouble",
   "alias": "MinPS",
   "domain": null
  },
  {
   "name": "MaxPS",
   "type": "esriFieldTypeDouble",
   "alias": "MaxPS",
   "domain": null
  },
  {
   "name": "LowPS",
   "type": "esriFieldTypeDouble",
   "alias": "LowPS",
   "domain": null
  },
  {
   "name": "HighPS",
   "type": "esriFieldTypeDouble",
   "alias": "HighPS",
   "domain": null
  },
  {
   "name": "Category",
   "type": "esriFieldTypeInteger",
   "alias": "Category",
   "domain": {
    "type": "codedValue",
    "name": "MosaicCatalogItemCategoryDomain",
    "description": "Catalog item categories.",
    "codedValues": [
     {
      "name": "Unknown",
      "code": 0
     },
     {
      "name": "Primary",
      "code": 1
     },
     {
      "name": "Overview",
      "code": 2
     },
     {
      "name": "Unprocessed Overview",
      "code": 3
     },
     {
      "name": "Partial Overview",
      "code": 4
     },
     {
      "name": "Inactive",
      "code": 5
     },
     {
      "name": "Uploaded",
      "code": 253
     },
     {
      "name": "Incomplete",
      "code": 254
     },
     {
      "name": "Custom",
      "code": 255
     }
    ],
    "mergePolicy": "esriMPTDefaultValue",
    "splitPolicy": "esriSPTDefaultValue"
   }
  },
  {
   "name": "Tag",
   "type": "esriFieldTypeString",
   "alias": "Tag",
   "domain": null,
   "length": 100
  },
  {
   "name": "GroupName",
   "type": "esriFieldTypeString",
   "alias": "GroupName",
   "domain": null,
   "length": 100
  },
  {
   "name": "ProductName",
   "type": "esriFieldTypeString",
   "alias": "ProductName",
   "domain": null,
   "length": 100
  },
  {
   "name": "CenterX",
   "type": "esriFieldTypeDouble",
   "alias": "CenterX",
   "domain": null
  },
  {
   "name": "CenterY",
   "type": "esriFieldTypeDouble",
   "alias": "CenterY",
   "domain": null
  },
  {
   "name": "ZOrder",
   "type": "esriFieldTypeInteger",
   "alias": "ZOrder",
   "domain": null
  },
  {
   "name": "Shape_Length",
   "type": "esriFieldTypeDouble",
   "alias": "Shape_Length",
   "domain": null
  },
  {
   "name": "Shape_Area",
   "type": "esriFieldTypeDouble",
   "alias": "Shape_Area",
   "domain": null
  },
  {
   "name": "SensorAzimuth",
   "type": "esriFieldTypeDouble",
   "alias": "Sensor Azimuth",
   "domain": null
  },
  {
   "name": "SensorElevation",
   "type": "esriFieldTypeDouble",
   "alias": "Sensor Elevation",
   "domain": null
  },
  {
   "name": "CAMERAID",
   "type": "esriFieldTypeString",
   "alias": "CAMERAID",
   "domain": null,
   "length": 8000
  },
  {
   "name": "PERSPECTIVEX",
   "type": "esriFieldTypeDouble",
   "alias": "PERSPECTIVEX",
   "domain": null
  },
  {
   "name": "PERSPECTIVEY",
   "type": "esriFieldTypeDouble",
   "alias": "PERSPECTIVEY",
   "domain": null
  },
  {
   "name": "PERSPECTIVEZ",
   "type": "esriFieldTypeDouble",
   "alias": "PERSPECTIVEZ",
   "domain": null
  }
 ],
 "capabilities": "Catalog,Mensuration,Image,Metadata",
 "defaultMosaicMethod": "Northwest",
 "allowedMosaicMethods": "NorthWest,Center,LockRaster,ByAttribute,Nadir,Viewpoint,Seamline,None",
 "sortField": "",
 "sortValue": null,
 "sortAscending": true,
 "mosaicOperator": "First",
 "maxDownloadSizeLimit": 2048,
 "defaultCompressionQuality": 75,
 "defaultResamplingMethod": "Bilinear",
 "maxImageHeight": 4100,
 "maxImageWidth": 15000,
 "maxRecordCount": 1000,
 "maxDownloadImageCount": 20,
 "maxMosaicImageCount": 20,
 "allowRasterFunction": true,
 "rasterFunctionInfos": [
  {
   "name": "None",
   "description": "A No-Op Function.",
   "help": ""
  }
 ],
 "rasterTypeInfos": [
  {
   "name": "Raster Dataset",
   "description": "Supports all ArcGIS Raster Datasets",
   "help": ""
  }
 ],
 "mensurationCapabilities": "Basic,Base-Top Height,Top-Top Shadow Height,Base-Top Shadow Height,3D",
 "hasHistograms": true,
 "hasColormap": false,
 "hasRasterAttributeTable": false,
 "minScale": 0,
 "maxScale": 0,
 "exportTilesAllowed": false,
 "hasMultidimensions": false,
 "supportsStatistics": true,
 "supportsAdvancedQueries": true,
 "editFieldsInfo": null,
 "ownershipBasedAccessControlForRasters": null,
 "allowComputeTiePoints": false,
 "useStandardizedQueries": true,
 "advancedQueryCapabilities": {
  "useStandardizedQueries": true,
  "supportsStatistics": true,
  "supportsOrderBy": true,
  "supportsDistinct": true,
  "supportsPagination": true
 },
 "spatialReference": {
  "wkt": "PROJCS[\"Hartebeesthoek_1994_Transverse_Mercator\",GEOGCS[\"GCS_Hartebeesthoek_1994\",DATUM[\"D_Hartebeesthoek_1994\",SPHEROID[\"GRS_1980\",6378137.0,298.257222101]],PRIMEM[\"Greenwich\",0.0],UNIT[\"Degree\",0.0174532925199433]],PROJECTION[\"Transverse_Mercator\"],PARAMETER[\"false_easting\",0.0],PARAMETER[\"false_northing\",0.0],PARAMETER[\"central_meridian\",29.0],PARAMETER[\"scale_factor\",1.0],PARAMETER[\"latitude_of_origin\",0.0],UNIT[\"Meter\",1.0]],VERTCS[\"unknown\",VDATUM[\"unknown\"],PARAMETER[\"Vertical_Shift\",0.0],PARAMETER[\"Direction\",1.0],UNIT[\"Meter\",1.0]]"
 }
}
